BEGIN:VCALENDAR
VERSION:2.0
METHOD:PUBLISH
PRODID:-//Telerik Inc.//Sitefinity CMS 13.2//EN
BEGIN:VTIMEZONE
TZID:W. Australia Standard Time
BEGIN:STANDARD
DTSTART;VALUE=DATE:20250101
TZNAME:W. Australia Standard Time
TZOFFSETFROM:+0800
TZOFFSETTO:+0800
END:STANDARD
END:VTIMEZONE
BEGIN:VEVENT
DESCRIPTION:Join us to enjoy a relaxed afternoon and connect with local com
 munity groups showcasing the services and support they offer. It’s a great
  opportunity to discover what’s available in your local area and meet othe
 rs in the community.\nWhen: Friday 15 May\nTime: 12:00pm – 2:00pm\nWhere: 
 Jack Healey Centre\, 21 Mead St\, Kalamunda\nRSVP to Susie at Darling Rang
 e Hub on 0492 807 603 or register via:&nbsp\;\nKalamunda Community Organis
 ations Networking Group lunch | TryBooking Australia\n\n
DTEND:20260515T060000Z
DTSTAMP:20260424T140754Z
DTSTART:20260515T040000Z
LOCATION:21 Mead St\, Kalamuinda
SEQUENCE:0
SUMMARY:FREE Community Lunch
UID:RFCALITEM639126364746866386
X-ALT-DESC;FMTTYPE=text/html:<p data-start="110" data-end="341">Join us to 
 enjoy a relaxed afternoon and connect with local community groups showcasi
 ng the services and support they offer. It’s a great opportunity to discov
 er what’s available in your local area and meet others in the community.</
 p>\n<p data-start="343" data-end="452"><strong data-start="343" data-end="
 352">When:</strong> Friday 15 May<br data-start="366" data-end="369">\n<st
 rong data-start="369" data-end="378">Time:</strong> 12:00pm – 2:00pm<br da
 ta-start="395" data-end="398">\n<strong data-start="398" data-end="408">Wh
 ere:</strong> Jack Healey Centre\, 21 Mead St\, Kalamunda</p>\nRSVP to Sus
 ie at Darling Range Hub on 0492 807 603 or register via:&nbsp\;<br>\n<a hr
 ef="https://www.trybooking.com/events/1574462/sessions/6394938/sections/30
 33749/tickets">Kalamunda Community Organisations Networking Group lunch | 
 TryBooking Australia</a><br>\n<br>\n<br>
END:VEVENT
END:VCALENDAR
